{
 "currentVersion": 10.91,
 "serviceDescription": "",
 "mapName": "Layers",
 "description": "",
 "copyrightText": "",
 "supportsDynamicLayers": true,
 "layers": [
  {
   "id": 0,
   "name": "Middletown.sid",
   "parentLayerId": -1,
   "defaultVisibility": true,
   "subLayerIds": null,
   "minScale": 0,
   "maxScale": 0,
   "type": "Raster Layer"
  }
 ],
 "tables": [],
 "spatialReference": {
  "wkid": 102100,
  "latestWkid": 3857
 },
 "singleFusedMapCache": true,
 "tileInfo": {
  "rows": 512,
  "cols": 512,
  "dpi": 96,
  "format": "MIXED",
  "compressionQuality": 75,
  "origin": {
   "x": -20037700,
   "y": 30241100
  },
  "spatialReference": {
   "wkid": 102100,
   "latestWkid": 3857
  },
  "lods": [
   {
    "level": 0,
    "resolution": 15.875031750063501,
    "scale": 60000
   },
   {
    "level": 1,
    "resolution": 12.700025400050801,
    "scale": 48000
   },
   {
    "level": 2,
    "resolution": 9.5250190500381,
    "scale": 36000
   },
   {
    "level": 3,
    "resolution": 6.350012700025401,
    "scale": 24000
   },
   {
    "level": 4,
    "resolution": 3.1750063500127004,
    "scale": 12000
   },
   {
    "level": 5,
    "resolution": 1.5875031750063502,
    "scale": 6000
   },
   {
    "level": 6,
    "resolution": 1.27000254000508,
    "scale": 4800
   },
   {
    "level": 7,
    "resolution": 0.63500127000254,
    "scale": 2400
   },
   {
    "level": 8,
    "resolution": 0.31750063500127,
    "scale": 1200
   },
   {
    "level": 9,
    "resolution": 0.158750317500635,
    "scale": 600
   },
   {
    "level": 10,
    "resolution": 0.06350012700025401,
    "scale": 240
   }
  ]
 },
 "initialExtent": {
  "xmin": -8102448.698967913,
  "ymin": 5091074.330289771,
  "xmax": -8072212.749730717,
  "ymax": 5102547.793169956,
  "spatialReference": {
   "wkid": 102100,
   "latestWkid": 3857
  }
 },
 "fullExtent": {
  "xmin": -8102448.698967913,
  "ymin": 5085201.182180437,
  "xmax": -8072212.749730718,
  "ymax": 5102536.716851507,
  "spatialReference": {
   "wkid": 102100,
   "latestWkid": 3857
  }
 },
 "minScale": 60000,
 "maxScale": 240,
 "minLOD": 0,
 "maxLOD": 6,
 "units": "esriMeters",
 "supportedImageFormatTypes": "PNG32,PNG24,PNG,JPG,DIB,TIFF,EMF,PS,PDF,GIF,SVG,SVGZ,BMP",
 "documentInfo": {
  "Title": "",
  "Author": "",
  "Comments": "",
  "Subject": "",
  "Category": "",
  "AntialiasingMode": "Normal",
  "TextAntialiasingMode": "None",
  "Keywords": ""
 },
 "capabilities": "Map,Query,Data",
 "supportedQueryFormats": "JSON, geoJSON",
 "exportTilesAllowed": false,
 "referenceScale": 0,
 "datumTransformations": [
  {
   "geoTransforms": [
    {
     "wkid": 8494,
     "latestWkid": 1515,
     "transformForward": true,
     "name": "NAD_1983_To_WGS_1984_5"
    }
   ]
  },
  {
   "geoTransforms": [
    {
     "wkid": 8494,
     "latestWkid": 1515,
     "transformForward": false,
     "name": "NAD_1983_To_WGS_1984_5"
    }
   ]
  }
 ],
 "supportsDatumTransformation": true,
 "maxRecordCount": 1000,
 "maxImageHeight": 4096,
 "maxImageWidth": 4096,
 "supportedExtensions": "",
 "resampling": false
}
