View In:
ArcGIS JavaScript
ArcGIS Online Map Viewer
ArcGIS Earth
ArcMap
View Footprint In:
ArcGIS Online Map Viewer
Service Description: Connecticut 1990 Orthophoto is a raster mosaic of 1990 orthophotography for Connecticut. It represents a mosaic of 414 digital orthophoto quarter quads (DOQQ) produced by the U.S. Geological Survey (USGS). The date of the orthophotography is 1990. The raster mosaic is based on DOQQs that are gray-scale, leaf-off, 1:12,000 scale (1 inch = 1,000 feet), quarter-quadrangle (3.75 minutes of latitude by 3.75 minutes of longitude) input raster images with 1-meter ground resolution. Input raster DOQQs are in Tagged Image File Format (TIFF) format and named "ortho_1990_quad0078se.tif" after CT DEP quadrangle number 78, SE quadrant, for example. Each 7.5 minute quadrangle is broken into four quadrants: NE, NW, SE, and SW. Each of these 3.75 minute quarter quadrangles is referred to as a quarter quad.
Orthophotos combine the image characteristics of a photograph with the geometric qualities of a map. The primary orthophoto produced by the USGS is the digital orthophoto quarter quadrangle (DOQQ), a 1-meter ground resolution, quarter-quadrangle (3.75 minutes of latitude by 3.75 minutes of longitude) image cast on the Universal Transverse Mercator projection (UTM) on the North American Datum of 1983 (NAD83). The geographic extent of the DOQQ is equivalent to a quarter-quadrangle plus the overedge ranges from a minimum of 50 meters to a maximum of 300 meters corner points. The overedge is included to facilitate tonal matching for mosaicking and for the placement of the NAD83 and secondary datum corner ticks. The normal orientation of data is by lines (rows) and samples (columns). Each line contains a series of pixels ordered from west to east with the order of the lines from north to south. The radiometric image brightness values are stored as 256 gray levels, ranging from 0 to 255.
Name: Imagery/Ortho_1990
Description: Connecticut 1990 Orthophoto is a raster mosaic of 1990 orthophotography for Connecticut. It represents a mosaic of 414 digital orthophoto quarter quads (DOQQ) produced by the U.S. Geological Survey (USGS). The date of the orthophotography is 1990. The raster mosaic is based on DOQQs that are gray-scale, leaf-off, 1:12,000 scale (1 inch = 1,000 feet), quarter-quadrangle (3.75 minutes of latitude by 3.75 minutes of longitude) input raster images with 1-meter ground resolution. Input raster DOQQs are in Tagged Image File Format (TIFF) format and named "ortho_1990_quad0078se.tif" after CT DEP quadrangle number 78, SE quadrant, for example. Each 7.5 minute quadrangle is broken into four quadrants: NE, NW, SE, and SW. Each of these 3.75 minute quarter quadrangles is referred to as a quarter quad.
Orthophotos combine the image characteristics of a photograph with the geometric qualities of a map. The primary orthophoto produced by the USGS is the digital orthophoto quarter quadrangle (DOQQ), a 1-meter ground resolution, quarter-quadrangle (3.75 minutes of latitude by 3.75 minutes of longitude) image cast on the Universal Transverse Mercator projection (UTM) on the North American Datum of 1983 (NAD83). The geographic extent of the DOQQ is equivalent to a quarter-quadrangle plus the overedge ranges from a minimum of 50 meters to a maximum of 300 meters corner points. The overedge is included to facilitate tonal matching for mosaicking and for the placement of the NAD83 and secondary datum corner ticks. The normal orientation of data is by lines (rows) and samples (columns). Each line contains a series of pixels ordered from west to east with the order of the lines from north to south. The radiometric image brightness values are stored as 256 gray levels, ranging from 0 to 255.
Single Fused Map Cache: false
Extent:
XMin: 987946.7231756041
YMin: 730583.2214419617
XMax: 1064908.0101312709
YMax: 789161.6203118893
Spatial Reference: 102656
(2234)
LatestVCSWkid(0)
Initial Extent:
XMin: 987946.7231756041
YMin: 730583.2214419617
XMax: 1064908.0101312709
YMax: 789161.6203118893
Spatial Reference: 102656
(2234)
LatestVCSWkid(0)
Full Extent:
XMin: 987946.7231756041
YMin: 730583.2214419617
XMax: 1064908.0101312709
YMax: 789161.6203118893
Spatial Reference: 102656
(2234)
LatestVCSWkid(0)
Pixel Size X: 3.281511403900001
Pixel Size Y: 3.2813353613000014
Band Count: 1
Pixel Type: U8
RasterFunction Infos: {"rasterFunctionInfos": [{
"name": "None",
"description": "",
"help": ""
}]}
Mensuration Capabilities: Basic
Has Histograms: true
Has Colormap: false
Has Multi Dimensions : false
Rendering Rule:
Min Scale: 0
Max Scale: 0
Copyright Text:
Service Data Type: esriImageServiceDataTypeGeneric
Min Values: 0
Max Values: 255
Mean Values: 130.30482022663
Standard Deviation Values: 46.61585800467
Object ID Field:
Fields:
None
Default Mosaic Method: Center
Allowed Mosaic Methods:
SortField:
SortValue: null
Mosaic Operator: First
Default Compression Quality: 75
Default Resampling Method: Bilinear
Max Record Count: null
Max Image Height: 4100
Max Image Width: 15000
Max Download Image Count: null
Max Mosaic Image Count: null
Allow Raster Function: true
Allow Copy: null
Allow Analysis: null
Allow Compute TiePoints: false
Supports Statistics: false
Supports Advanced Queries: false
Use StandardizedQueries: true
Raster Type Infos:
Name: Raster Dataset
Description: Supports all ArcGIS Raster Datasets
Help:
Has Raster Attribute Table: false
Edit Fields Info: null
Ownership Based AccessControl For Rasters: null
Child Resources:
Info
Histograms
Key Properties
Legend
Raster Function Infos
Supported Operations:
Export Image
Identify
Measure
Compute Histograms
Compute Statistics Histograms
Get Samples
Compute Class Statistics
Query Boundary
Compute Pixel Location
Compute Angles
Validate
Project