{
 "currentVersion": 10.91,
 "serviceDescription": "Imagery 2004",
 "mapName": "Layers",
 "description": "",
 "copyrightText": "",
 "supportsDynamicLayers": true,
 "layers": [
  {
   "id": 0,
   "name": "0410720821_3.sid",
   "parentLayerId": -1,
   "defaultVisibility": true,
   "subLayerIds": null,
   "minScale": 0,
   "maxScale": 0,
   "type": "Raster Layer"
  },
  {
   "id": 1,
   "name": "0410720661_6.sid",
   "parentLayerId": -1,
   "defaultVisibility": true,
   "subLayerIds": null,
   "minScale": 0,
   "maxScale": 0,
   "type": "Raster Layer"
  },
  {
   "id": 2,
   "name": "0410720661_9.sid",
   "parentLayerId": -1,
   "defaultVisibility": true,
   "subLayerIds": null,
   "minScale": 0,
   "maxScale": 0,
   "type": "Raster Layer"
  },
  {
   "id": 3,
   "name": "0410720662_3.sid",
   "parentLayerId": -1,
   "defaultVisibility": true,
   "subLayerIds": null,
   "minScale": 0,
   "maxScale": 0,
   "type": "Raster Layer"
  },
  {
   "id": 4,
   "name": "0410720671_4.sid",
   "parentLayerId": -1,
   "defaultVisibility": true,
   "subLayerIds": null,
   "minScale": 0,
   "maxScale": 0,
   "type": "Raster Layer"
  },
  {
   "id": 5,
   "name": "0410720671_5.sid",
   "parentLayerId": -1,
   "defaultVisibility": true,
   "subLayerIds": null,
   "minScale": 0,
   "maxScale": 0,
   "type": "Raster Layer"
  },
  {
   "id": 6,
   "name": "0410720671_7.sid",
   "parentLayerId": -1,
   "defaultVisibility": true,
   "subLayerIds": null,
   "minScale": 0,
   "maxScale": 0,
   "type": "Raster Layer"
  },
  {
   "id": 7,
   "name": "0410720671_8.sid",
   "parentLayerId": -1,
   "defaultVisibility": true,
   "subLayerIds": null,
   "minScale": 0,
   "maxScale": 0,
   "type": "Raster Layer"
  },
  {
   "id": 8,
   "name": "0410720672_1.sid",
   "parentLayerId": -1,
   "defaultVisibility": true,
   "subLayerIds": null,
   "minScale": 0,
   "maxScale": 0,
   "type": "Raster Layer"
  },
  {
   "id": 9,
   "name": "0410720672_2.sid",
   "parentLayerId": -1,
   "defaultVisibility": true,
   "subLayerIds": null,
   "minScale": 0,
   "maxScale": 0,
   "type": "Raster Layer"
  },
  {
   "id": 10,
   "name": "0410720672_3.sid",
   "parentLayerId": -1,
   "defaultVisibility": true,
   "subLayerIds": null,
   "minScale": 0,
   "maxScale": 0,
   "type": "Raster Layer"
  },
  {
   "id": 11,
   "name": "0410720672_4.sid",
   "parentLayerId": -1,
   "defaultVisibility": true,
   "subLayerIds": null,
   "minScale": 0,
   "maxScale": 0,
   "type": "Raster Layer"
  },
  {
   "id": 12,
   "name": "0410720672_5.sid",
   "parentLayerId": -1,
   "defaultVisibility": true,
   "subLayerIds": null,
   "minScale": 0,
   "maxScale": 0,
   "type": "Raster Layer"
  },
  {
   "id": 13,
   "name": "0410720672_6.sid",
   "parentLayerId": -1,
   "defaultVisibility": true,
   "subLayerIds": null,
   "minScale": 0,
   "maxScale": 0,
   "type": "Raster Layer"
  },
  {
   "id": 14,
   "name": "0410720672_7.sid",
   "parentLayerId": -1,
   "defaultVisibility": true,
   "subLayerIds": null,
   "minScale": 0,
   "maxScale": 0,
   "type": "Raster Layer"
  },
  {
   "id": 15,
   "name": "0410720672_8.sid",
   "parentLayerId": -1,
   "defaultVisibility": true,
   "subLayerIds": null,
   "minScale": 0,
   "maxScale": 0,
   "type": "Raster Layer"
  },
  {
   "id": 16,
   "name": "0410720672_9.sid",
   "parentLayerId": -1,
   "defaultVisibility": true,
   "subLayerIds": null,
   "minScale": 0,
   "maxScale": 0,
   "type": "Raster Layer"
  },
  {
   "id": 17,
   "name": "0410720673_1.sid",
   "parentLayerId": -1,
   "defaultVisibility": true,
   "subLayerIds": null,
   "minScale": 0,
   "maxScale": 0,
   "type": "Raster Layer"
  },
  {
   "id": 18,
   "name": "0410720673_2.sid",
   "parentLayerId": -1,
   "defaultVisibility": true,
   "subLayerIds": null,
   "minScale": 0,
   "maxScale": 0,
   "type": "Raster Layer"
  },
  {
   "id": 19,
   "name": "0410720673_3.sid",
   "parentLayerId": -1,
   "defaultVisibility": true,
   "subLayerIds": null,
   "minScale": 0,
   "maxScale": 0,
   "type": "Raster Layer"
  },
  {
   "id": 20,
   "name": "0410720673_6.sid",
   "parentLayerId": -1,
   "defaultVisibility": true,
   "subLayerIds": null,
   "minScale": 0,
   "maxScale": 0,
   "type": "Raster Layer"
  },
  {
   "id": 21,
   "name": "0410720674_4.sid",
   "parentLayerId": -1,
   "defaultVisibility": true,
   "subLayerIds": null,
   "minScale": 0,
   "maxScale": 0,
   "type": "Raster Layer"
  },
  {
   "id": 22,
   "name": "0410720674_5.sid",
   "parentLayerId": -1,
   "defaultVisibility": true,
   "subLayerIds": null,
   "minScale": 0,
   "maxScale": 0,
   "type": "Raster Layer"
  },
  {
   "id": 23,
   "name": "0410720674_6.sid",
   "parentLayerId": -1,
   "defaultVisibility": true,
   "subLayerIds": null,
   "minScale": 0,
   "maxScale": 0,
   "type": "Raster Layer"
  },
  {
   "id": 24,
   "name": "0410720674_7.sid",
   "parentLayerId": -1,
   "defaultVisibility": true,
   "subLayerIds": null,
   "minScale": 0,
   "maxScale": 0,
   "type": "Raster Layer"
  },
  {
   "id": 25,
   "name": "0410720674_8.sid",
   "parentLayerId": -1,
   "defaultVisibility": true,
   "subLayerIds": null,
   "minScale": 0,
   "maxScale": 0,
   "type": "Raster Layer"
  },
  {
   "id": 26,
   "name": "0410720674_9.sid",
   "parentLayerId": -1,
   "defaultVisibility": true,
   "subLayerIds": null,
   "minScale": 0,
   "maxScale": 0,
   "type": "Raster Layer"
  },
  {
   "id": 27,
   "name": "0410720682_1.sid",
   "parentLayerId": -1,
   "defaultVisibility": true,
   "subLayerIds": null,
   "minScale": 0,
   "maxScale": 0,
   "type": "Raster Layer"
  },
  {
   "id": 28,
   "name": "0410720682_4.sid",
   "parentLayerId": -1,
   "defaultVisibility": true,
   "subLayerIds": null,
   "minScale": 0,
   "maxScale": 0,
   "type": "Raster Layer"
  },
  {
   "id": 29,
   "name": "0410720682_7.sid",
   "parentLayerId": -1,
   "defaultVisibility": true,
   "subLayerIds": null,
   "minScale": 0,
   "maxScale": 0,
   "type": "Raster Layer"
  },
  {
   "id": 30,
   "name": "0410720683_1.sid",
   "parentLayerId": -1,
   "defaultVisibility": true,
   "subLayerIds": null,
   "minScale": 0,
   "maxScale": 0,
   "type": "Raster Layer"
  },
  {
   "id": 31,
   "name": "0410720683_2.sid",
   "parentLayerId": -1,
   "defaultVisibility": true,
   "subLayerIds": null,
   "minScale": 0,
   "maxScale": 0,
   "type": "Raster Layer"
  },
  {
   "id": 32,
   "name": "0410720683_3.sid",
   "parentLayerId": -1,
   "defaultVisibility": true,
   "subLayerIds": null,
   "minScale": 0,
   "maxScale": 0,
   "type": "Raster Layer"
  },
  {
   "id": 33,
   "name": "0410720683_4.sid",
   "parentLayerId": -1,
   "defaultVisibility": true,
   "subLayerIds": null,
   "minScale": 0,
   "maxScale": 0,
   "type": "Raster Layer"
  },
  {
   "id": 34,
   "name": "0410720683_5.sid",
   "parentLayerId": -1,
   "defaultVisibility": true,
   "subLayerIds": null,
   "minScale": 0,
   "maxScale": 0,
   "type": "Raster Layer"
  },
  {
   "id": 35,
   "name": "0410720683_6.sid",
   "parentLayerId": -1,
   "defaultVisibility": true,
   "subLayerIds": null,
   "minScale": 0,
   "maxScale": 0,
   "type": "Raster Layer"
  },
  {
   "id": 36,
   "name": "0410720683_7.sid",
   "parentLayerId": -1,
   "defaultVisibility": true,
   "subLayerIds": null,
   "minScale": 0,
   "maxScale": 0,
   "type": "Raster Layer"
  },
  {
   "id": 37,
   "name": "0410720683_8.sid",
   "parentLayerId": -1,
   "defaultVisibility": true,
   "subLayerIds": null,
   "minScale": 0,
   "maxScale": 0,
   "type": "Raster Layer"
  },
  {
   "id": 38,
   "name": "0410720683_9.sid",
   "parentLayerId": -1,
   "defaultVisibility": true,
   "subLayerIds": null,
   "minScale": 0,
   "maxScale": 0,
   "type": "Raster Layer"
  },
  {
   "id": 39,
   "name": "0410720821_1.sid",
   "parentLayerId": -1,
   "defaultVisibility": true,
   "subLayerIds": null,
   "minScale": 0,
   "maxScale": 0,
   "type": "Raster Layer"
  },
  {
   "id": 40,
   "name": "0410720821_2.sid",
   "parentLayerId": -1,
   "defaultVisibility": true,
   "subLayerIds": null,
   "minScale": 0,
   "maxScale": 0,
   "type": "Raster Layer"
  }
 ],
 "tables": [],
 "spatialReference": {
  "wkid": 102100,
  "latestWkid": 3857
 },
 "singleFusedMapCache": true,
 "tileInfo": {
  "rows": 256,
  "cols": 256,
  "dpi": 96,
  "format": "PNG24",
  "compressionQuality": 0,
  "origin": {
   "x": -20037700,
   "y": 30241100
  },
  "spatialReference": {
   "wkid": 102100,
   "latestWkid": 3857
  },
  "lods": [
   {
    "level": 0,
    "resolution": 15.875031750063501,
    "scale": 60000
   },
   {
    "level": 1,
    "resolution": 12.700025400050801,
    "scale": 48000
   },
   {
    "level": 2,
    "resolution": 9.5250190500381,
    "scale": 36000
   },
   {
    "level": 3,
    "resolution": 6.350012700025401,
    "scale": 24000
   },
   {
    "level": 4,
    "resolution": 3.1750063500127004,
    "scale": 12000
   },
   {
    "level": 5,
    "resolution": 1.5875031750063502,
    "scale": 6000
   },
   {
    "level": 6,
    "resolution": 1.27000254000508,
    "scale": 4800
   },
   {
    "level": 7,
    "resolution": 0.63500127000254,
    "scale": 2400
   },
   {
    "level": 8,
    "resolution": 0.31750063500127,
    "scale": 1200
   },
   {
    "level": 9,
    "resolution": 0.158750317500635,
    "scale": 600
   },
   {
    "level": 10,
    "resolution": 0.06350012700025401,
    "scale": 240
   }
  ]
 },
 "initialExtent": {
  "xmin": -8102134.798655197,
  "ymin": 5089218.646054821,
  "xmax": -8073873.628905263,
  "ymax": 5102990.469151637,
  "spatialReference": {
   "wkid": 102100,
   "latestWkid": 3857
  }
 },
 "fullExtent": {
  "xmin": -8100850.2000302,
  "ymin": 5083217.3158168625,
  "xmax": -8075158.22753026,
  "ymax": 5101955.439353579,
  "spatialReference": {
   "wkid": 102100,
   "latestWkid": 3857
  }
 },
 "minScale": 60000,
 "maxScale": 240,
 "units": "esriMeters",
 "supportedImageFormatTypes": "PNG32,PNG24,PNG,JPG,DIB,TIFF,EMF,PS,PDF,GIF,SVG,SVGZ,BMP",
 "documentInfo": {
  "Title": "",
  "Author": "",
  "Comments": "Imagery 2016",
  "Subject": "Imagery 2016",
  "Category": "",
  "AntialiasingMode": "None",
  "TextAntialiasingMode": "Force",
  "Keywords": "imagery"
 },
 "capabilities": "Map,Query,Data",
 "supportedQueryFormats": "JSON, geoJSON",
 "exportTilesAllowed": false,
 "referenceScale": 0,
 "datumTransformations": [
  {
   "geoTransforms": [
    {
     "wkid": 108190,
     "latestWkid": 108190,
     "transformForward": false,
     "name": "WGS_1984_(ITRF00)_To_NAD_1983"
    }
   ]
  },
  {
   "geoTransforms": [
    {
     "wkid": 108190,
     "latestWkid": 108190,
     "transformForward": true,
     "name": "WGS_1984_(ITRF00)_To_NAD_1983"
    }
   ]
  }
 ],
 "supportsDatumTransformation": true,
 "maxRecordCount": 1000,
 "maxImageHeight": 4096,
 "maxImageWidth": 4096,
 "supportedExtensions": ""
}
