View In:
ArcGIS JavaScript
ArcGIS Online Map Viewer
ArcGIS Earth
ArcMap
View Footprint In:
ArcGIS Online Map Viewer
Service Description: This is a raster mosaic of 2008, natural color, leaf off, 1 ft ground sample distance imagery from the U.S. Geological Survey for the Bridgeport, Hartford and New Haven, Connecticut Urban Areas. Imagery only exists for these three geographic regions.
This task order consists of digital orthophoto production covering the CT Cities 133 Urban Area footprint. An orthoimage is remotely sensed image data in which displacement of features in the image caused by terrain relief and sensor orientation have been mathematically removed. Orthoimagery combines the image characteristics of a photograph with the geometric qualities of a map.
Name: Imagery/Ortho_2008
Description: This is a raster mosaic of 2008, natural color, leaf off, 1 ft ground sample distance imagery from the U.S. Geological Survey for the Bridgeport, Hartford and New Haven, Connecticut Urban Areas. Imagery only exists for these three geographic regions.
This task order consists of digital orthophoto production covering the CT Cities 133 Urban Area footprint. An orthoimage is remotely sensed image data in which displacement of features in the image caused by terrain relief and sensor orientation have been mathematically removed. Orthoimagery combines the image characteristics of a photograph with the geometric qualities of a map.
Single Fused Map Cache: false
Extent:
XMin: 998546.0185475689
YMin: 740510.1825901524
XMax: 1054842.2553073533
YMax: 781353.1242226162
Spatial Reference: 102656
(2234)
LatestVCSWkid(0)
Initial Extent:
XMin: 998546.0185475689
YMin: 740510.1825901524
XMax: 1054842.2553073533
YMax: 781353.1242226162
Spatial Reference: 102656
(2234)
LatestVCSWkid(0)
Full Extent:
XMin: 998546.0185475689
YMin: 740510.1825901524
XMax: 1054842.2553073533
YMax: 781353.1242226162
Spatial Reference: 102656
(2234)
LatestVCSWkid(0)
Pixel Size X: 1.0096893026720783
Pixel Size Y: 1.0096892940215032
Band Count: 3
Pixel Type: U8
RasterFunction Infos: {"rasterFunctionInfos": [{
"name": "None",
"description": "",
"help": ""
}]}
Mensuration Capabilities: Basic
Has Histograms: true
Has Colormap: false
Has Multi Dimensions : false
Rendering Rule:
Min Scale: 0
Max Scale: 0
Copyright Text:
Service Data Type: esriImageServiceDataTypeRGB
Min Values: 0, 0, 0
Max Values: 255, 255, 255
Mean Values: 149.2907638315944, 145.0643921833769, 137.60925241861764
Standard Deviation Values: 29.25599541608668, 26.826165238447004, 20.84055620876651
Object ID Field:
Fields:
None
Default Mosaic Method: Center
Allowed Mosaic Methods:
SortField:
SortValue: null
Mosaic Operator: First
Default Compression Quality: 75
Default Resampling Method: Bilinear
Max Record Count: null
Max Image Height: 4100
Max Image Width: 15000
Max Download Image Count: null
Max Mosaic Image Count: null
Allow Raster Function: true
Allow Copy: null
Allow Analysis: null
Allow Compute TiePoints: false
Supports Statistics: false
Supports Advanced Queries: false
Use StandardizedQueries: true
Raster Type Infos:
Name: Raster Dataset
Description: Supports all ArcGIS Raster Datasets
Help:
Has Raster Attribute Table: false
Edit Fields Info: null
Ownership Based AccessControl For Rasters: null
Child Resources:
Info
Histograms
Key Properties
Legend
Raster Function Infos
Supported Operations:
Export Image
Identify
Measure
Compute Histograms
Compute Statistics Histograms
Get Samples
Compute Class Statistics
Query Boundary
Compute Pixel Location
Compute Angles
Validate
Project