{
 "currentVersion": 10.91,
 "serviceDescription": "This is a raster mosaic of 2008, natural color, leaf off, 1 ft ground sample distance imagery from the U.S. Geological Survey for the Bridgeport, Hartford and New Haven, Connecticut Urban Areas. Imagery only exists for these three geographic regions.\n\nThis task order consists of digital orthophoto production covering the CT Cities 133 Urban Area footprint. An orthoimage is remotely sensed image data in which displacement of features in the image caused by terrain relief and sensor orientation have been mathematically removed. Orthoimagery combines the image characteristics of a photograph with the geometric qualities of a map.",
 "name": "Imagery/Ortho_2008",
 "description": "This is a raster mosaic of 2008, natural color, leaf off, 1 ft ground sample distance imagery from the U.S. Geological Survey for the Bridgeport, Hartford and New Haven, Connecticut Urban Areas. Imagery only exists for these three geographic regions.\n\nThis task order consists of digital orthophoto production covering the CT Cities 133 Urban Area footprint. An orthoimage is remotely sensed image data in which displacement of features in the image caused by terrain relief and sensor orientation have been mathematically removed. Orthoimagery combines the image characteristics of a photograph with the geometric qualities of a map.",
 "extent": {
  "xmin": 998546.0185475689,
  "ymin": 740510.1825901524,
  "xmax": 1054842.2553073533,
  "ymax": 781353.1242226162,
  "spatialReference": {
   "wkid": 102656,
   "latestWkid": 2234
  }
 },
 "initialExtent": {
  "xmin": 998546.0185475689,
  "ymin": 740510.1825901524,
  "xmax": 1054842.2553073533,
  "ymax": 781353.1242226162,
  "spatialReference": {
   "wkid": 102656,
   "latestWkid": 2234
  }
 },
 "fullExtent": {
  "xmin": 998546.0185475689,
  "ymin": 740510.1825901524,
  "xmax": 1054842.2553073533,
  "ymax": 781353.1242226162,
  "spatialReference": {
   "wkid": 102656,
   "latestWkid": 2234
  }
 },
 "pixelSizeX": 1.0096893026720783,
 "pixelSizeY": 1.0096892940215032,
 "bandCount": 3,
 "pixelType": "U8",
 "minPixelSize": 0,
 "maxPixelSize": 0,
 "copyrightText": "",
 "serviceDataType": "esriImageServiceDataTypeRGB",
 "minValues": [
  0,
  0,
  0
 ],
 "maxValues": [
  255,
  255,
  255
 ],
 "meanValues": [
  149.2907638315944,
  145.0643921833769,
  137.60925241861764
 ],
 "stdvValues": [
  29.25599541608668,
  26.826165238447004,
  20.84055620876651
 ],
 "objectIdField": "",
 "fields": [],
 "capabilities": "Mensuration,Image,Metadata",
 "defaultMosaicMethod": "Center",
 "allowedMosaicMethods": "",
 "sortField": "",
 "sortValue": null,
 "sortAscending": true,
 "mosaicOperator": "First",
 "defaultCompressionQuality": 75,
 "defaultResamplingMethod": "Bilinear",
 "maxImageHeight": 4100,
 "maxImageWidth": 15000,
 "allowRasterFunction": true,
 "rasterFunctionInfos": [
  {
   "name": "None",
   "description": "",
   "help": ""
  }
 ],
 "rasterTypeInfos": [
  {
   "name": "Raster Dataset",
   "description": "Supports all ArcGIS Raster Datasets",
   "help": ""
  }
 ],
 "mensurationCapabilities": "Basic",
 "hasHistograms": true,
 "hasColormap": false,
 "hasRasterAttributeTable": false,
 "minScale": 0,
 "maxScale": 0,
 "exportTilesAllowed": false,
 "hasMultidimensions": false,
 "supportsStatistics": false,
 "supportsAdvancedQueries": false,
 "editFieldsInfo": null,
 "ownershipBasedAccessControlForRasters": null,
 "allowComputeTiePoints": false,
 "useStandardizedQueries": true,
 "advancedQueryCapabilities": {
  "useStandardizedQueries": true,
  "supportsStatistics": false,
  "supportsOrderBy": false,
  "supportsDistinct": false,
  "supportsPagination": false
 },
 "spatialReference": {
  "wkid": 102656,
  "latestWkid": 2234
 }
}
