View In:
ArcGIS JavaScript
ArcGIS Online Map Viewer
ArcGIS Earth
ArcMap
View Footprint In:
ArcGIS Online Map Viewer
Service Description: Ortho Imagery 2012
Name: Imagery/Ortho_2012
Description: Ortho Imagery 2012
Single Fused Map Cache: false
Extent:
XMin: 998172.0
YMin: 740047.0
XMax: 1055470.0
YMax: 781898.0
Spatial Reference: 102656
(2234)
LatestVCSWkid(0)
Initial Extent:
XMin: 998172.0
YMin: 740047.0
XMax: 1055470.0
YMax: 781898.0
Spatial Reference: 102656
(2234)
LatestVCSWkid(0)
Full Extent:
XMin: 998172.0
YMin: 740047.0
XMax: 1055470.0
YMax: 781898.0
Spatial Reference: 102656
(2234)
LatestVCSWkid(0)
Pixel Size X: 1.0
Pixel Size Y: 1.0
Band Count: 4
Pixel Type: U8
RasterFunction Infos: {"rasterFunctionInfos": [{
"name": "None",
"description": "",
"help": ""
}]}
Mensuration Capabilities: Basic
Has Histograms: true
Has Colormap: false
Has Multi Dimensions : false
Rendering Rule:
Min Scale: 0
Max Scale: 0
Copyright Text:
Service Data Type: esriImageServiceDataTypeProcessed
Min Values: 0, 0, 0, 0
Max Values: 255, 255, 255, 255
Mean Values: 104.43521025787, 103.67040223726, 99.300940629579, 142.86772077897
Standard Deviation Values: 29.330242824966, 26.420451810376, 22.425765431148, 40.012696122626
Object ID Field:
Fields:
None
Default Mosaic Method: Center
Allowed Mosaic Methods:
SortField:
SortValue: null
Mosaic Operator: First
Default Compression Quality: 75
Default Resampling Method: Bilinear
Max Record Count: null
Max Image Height: 4100
Max Image Width: 15000
Max Download Image Count: null
Max Mosaic Image Count: null
Allow Raster Function: true
Allow Copy: null
Allow Analysis: null
Allow Compute TiePoints: false
Supports Statistics: false
Supports Advanced Queries: false
Use StandardizedQueries: true
Raster Type Infos:
Name: Raster Dataset
Description: Supports all ArcGIS Raster Datasets
Help:
Has Raster Attribute Table: false
Edit Fields Info: null
Ownership Based AccessControl For Rasters: null
Child Resources:
Info
Histograms
Key Properties
Legend
Raster Function Infos
Supported Operations:
Export Image
Identify
Measure
Compute Histograms
Compute Statistics Histograms
Get Samples
Compute Class Statistics
Query Boundary
Compute Pixel Location
Compute Angles
Validate
Project