{
 "currentVersion": 10.91,
 "serviceDescription": "Ortho Imagery 2012",
 "name": "Imagery/Ortho_2012",
 "description": "Ortho Imagery 2012",
 "extent": {
  "xmin": 998172,
  "ymin": 740047,
  "xmax": 1055470,
  "ymax": 781898,
  "spatialReference": {
   "wkid": 102656,
   "latestWkid": 2234
  }
 },
 "initialExtent": {
  "xmin": 998172,
  "ymin": 740047,
  "xmax": 1055470,
  "ymax": 781898,
  "spatialReference": {
   "wkid": 102656,
   "latestWkid": 2234
  }
 },
 "fullExtent": {
  "xmin": 998172,
  "ymin": 740047,
  "xmax": 1055470,
  "ymax": 781898,
  "spatialReference": {
   "wkid": 102656,
   "latestWkid": 2234
  }
 },
 "pixelSizeX": 1,
 "pixelSizeY": 1,
 "bandCount": 4,
 "pixelType": "U8",
 "minPixelSize": 0,
 "maxPixelSize": 0,
 "copyrightText": "",
 "serviceDataType": "esriImageServiceDataTypeProcessed",
 "minValues": [
  0,
  0,
  0,
  0
 ],
 "maxValues": [
  255,
  255,
  255,
  255
 ],
 "meanValues": [
  104.43521025787,
  103.67040223726,
  99.300940629579,
  142.86772077897
 ],
 "stdvValues": [
  29.330242824966,
  26.420451810376,
  22.425765431148,
  40.012696122626
 ],
 "objectIdField": "",
 "fields": [],
 "capabilities": "Mensuration,Image,Metadata",
 "defaultMosaicMethod": "Center",
 "allowedMosaicMethods": "",
 "sortField": "",
 "sortValue": null,
 "sortAscending": true,
 "mosaicOperator": "First",
 "defaultCompressionQuality": 75,
 "defaultResamplingMethod": "Bilinear",
 "maxImageHeight": 4100,
 "maxImageWidth": 15000,
 "allowRasterFunction": true,
 "rasterFunctionInfos": [
  {
   "name": "None",
   "description": "",
   "help": ""
  }
 ],
 "rasterTypeInfos": [
  {
   "name": "Raster Dataset",
   "description": "Supports all ArcGIS Raster Datasets",
   "help": ""
  }
 ],
 "mensurationCapabilities": "Basic",
 "hasHistograms": true,
 "hasColormap": false,
 "hasRasterAttributeTable": false,
 "minScale": 0,
 "maxScale": 0,
 "exportTilesAllowed": false,
 "hasMultidimensions": false,
 "supportsStatistics": false,
 "supportsAdvancedQueries": false,
 "editFieldsInfo": null,
 "ownershipBasedAccessControlForRasters": null,
 "allowComputeTiePoints": false,
 "useStandardizedQueries": true,
 "advancedQueryCapabilities": {
  "useStandardizedQueries": true,
  "supportsStatistics": false,
  "supportsOrderBy": false,
  "supportsDistinct": false,
  "supportsPagination": false
 },
 "spatialReference": {
  "wkid": 102656,
  "latestWkid": 2234
 }
}
