View In:
ArcGIS JavaScript
ArcGIS Online Map Viewer
ArcGIS Earth
ArcMap
View Footprint In:
ArcGIS Online Map Viewer
Service Description: Ortho Imagery 2016
Name: Imagery/Ortho_2016
Description: Ortho Imagery 2016
Single Fused Map Cache: false
Extent:
XMin: 997500.0
YMin: 737500.0
XMax: 1057500.0
YMax: 782500.0
Spatial Reference: 0
(0)
LatestVCSWkid(0)
Initial Extent:
XMin: 997500.0
YMin: 737500.0
XMax: 1057500.0
YMax: 782500.0
Spatial Reference: 0
(0)
LatestVCSWkid(0)
Full Extent:
XMin: 997500.0
YMin: 737500.0
XMax: 1057500.0
YMax: 782500.0
Spatial Reference: 0
(0)
LatestVCSWkid(0)
Pixel Size X: 0.25
Pixel Size Y: 0.25
Band Count: 3
Pixel Type: U8
RasterFunction Infos: {"rasterFunctionInfos": [{
"name": "None",
"description": "",
"help": ""
}]}
Mensuration Capabilities: Basic
Has Histograms: true
Has Colormap: false
Has Multi Dimensions : false
Rendering Rule:
Min Scale: 0
Max Scale: 0
Copyright Text:
Service Data Type: esriImageServiceDataTypeRGB
Min Values: 2, 23, 20
Max Values: 198, 187, 172
Mean Values: 123.062403698, 109.1406009245, 89.902927580894
Standard Deviation Values: 19.852731010689, 15.887286937475, 14.281313252791
Object ID Field:
Fields:
None
Default Mosaic Method: Center
Allowed Mosaic Methods:
SortField:
SortValue: null
Mosaic Operator: First
Default Compression Quality: 75
Default Resampling Method: Bilinear
Max Record Count: null
Max Image Height: 4100
Max Image Width: 15000
Max Download Image Count: null
Max Mosaic Image Count: null
Allow Raster Function: true
Allow Copy: null
Allow Analysis: null
Allow Compute TiePoints: false
Supports Statistics: false
Supports Advanced Queries: false
Use StandardizedQueries: true
Raster Type Infos:
Name: Raster Dataset
Description: Supports all ArcGIS Raster Datasets
Help:
Has Raster Attribute Table: false
Edit Fields Info: null
Ownership Based AccessControl For Rasters: null
Child Resources:
Info
Histograms
Key Properties
Legend
Raster Function Infos
Supported Operations:
Export Image
Identify
Measure
Compute Histograms
Compute Statistics Histograms
Get Samples
Compute Class Statistics
Query Boundary
Compute Pixel Location
Compute Angles
Validate
Project