{
 "currentVersion": 10.91,
 "serviceDescription": "Ortho Imagery 2016",
 "name": "Imagery/Ortho_2016",
 "description": "Ortho Imagery 2016",
 "extent": {
  "xmin": 997500,
  "ymin": 737500,
  "xmax": 1057500,
  "ymax": 782500,
  "spatialReference": {
   "wkt": "PROJCS[\"NAD_1983_2011_Connecticut_ft\",GEOGCS[\"GCS_NAD_1983_2011\",DATUM[\"D_NAD83_NATIONAL_SPATIAL_REFERENCE_SYSTEM_2011\",SPHEROID[\"GRS_1980\",6378137.0,298.257222101]],PRIMEM[\"Greenwich\",0.0],UNIT[\"Degree\",0.0174532925199433]],PROJECTION[\"Lambert_Conformal_Conic\"],PARAMETER[\"false_easting\",999999.999996],PARAMETER[\"false_northing\",499999.999998],PARAMETER[\"central_meridian\",-72.75],PARAMETER[\"standard_parallel_1\",41.2],PARAMETER[\"standard_parallel_2\",41.86666666666667],PARAMETER[\"latitude_of_origin\",40.83333333333334],UNIT[\"Foot_US\",0.3048006096012192]]"
  }
 },
 "initialExtent": {
  "xmin": 997500,
  "ymin": 737500,
  "xmax": 1057500,
  "ymax": 782500,
  "spatialReference": {
   "wkt": "PROJCS[\"NAD_1983_2011_Connecticut_ft\",GEOGCS[\"GCS_NAD_1983_2011\",DATUM[\"D_NAD83_NATIONAL_SPATIAL_REFERENCE_SYSTEM_2011\",SPHEROID[\"GRS_1980\",6378137.0,298.257222101]],PRIMEM[\"Greenwich\",0.0],UNIT[\"Degree\",0.0174532925199433]],PROJECTION[\"Lambert_Conformal_Conic\"],PARAMETER[\"false_easting\",999999.999996],PARAMETER[\"false_northing\",499999.999998],PARAMETER[\"central_meridian\",-72.75],PARAMETER[\"standard_parallel_1\",41.2],PARAMETER[\"standard_parallel_2\",41.86666666666667],PARAMETER[\"latitude_of_origin\",40.83333333333334],UNIT[\"Foot_US\",0.3048006096012192]]"
  }
 },
 "fullExtent": {
  "xmin": 997500,
  "ymin": 737500,
  "xmax": 1057500,
  "ymax": 782500,
  "spatialReference": {
   "wkt": "PROJCS[\"NAD_1983_2011_Connecticut_ft\",GEOGCS[\"GCS_NAD_1983_2011\",DATUM[\"D_NAD83_NATIONAL_SPATIAL_REFERENCE_SYSTEM_2011\",SPHEROID[\"GRS_1980\",6378137.0,298.257222101]],PRIMEM[\"Greenwich\",0.0],UNIT[\"Degree\",0.0174532925199433]],PROJECTION[\"Lambert_Conformal_Conic\"],PARAMETER[\"false_easting\",999999.999996],PARAMETER[\"false_northing\",499999.999998],PARAMETER[\"central_meridian\",-72.75],PARAMETER[\"standard_parallel_1\",41.2],PARAMETER[\"standard_parallel_2\",41.86666666666667],PARAMETER[\"latitude_of_origin\",40.83333333333334],UNIT[\"Foot_US\",0.3048006096012192]]"
  }
 },
 "pixelSizeX": 0.25,
 "pixelSizeY": 0.25,
 "bandCount": 3,
 "pixelType": "U8",
 "minPixelSize": 0,
 "maxPixelSize": 0,
 "copyrightText": "",
 "serviceDataType": "esriImageServiceDataTypeRGB",
 "minValues": [
  2,
  23,
  20
 ],
 "maxValues": [
  198,
  187,
  172
 ],
 "meanValues": [
  123.062403698,
  109.1406009245,
  89.902927580894
 ],
 "stdvValues": [
  19.852731010689,
  15.887286937475,
  14.281313252791
 ],
 "objectIdField": "",
 "fields": [],
 "capabilities": "Mensuration,Image,Metadata",
 "defaultMosaicMethod": "Center",
 "allowedMosaicMethods": "",
 "sortField": "",
 "sortValue": null,
 "sortAscending": true,
 "mosaicOperator": "First",
 "defaultCompressionQuality": 75,
 "defaultResamplingMethod": "Bilinear",
 "maxImageHeight": 4100,
 "maxImageWidth": 15000,
 "allowRasterFunction": true,
 "rasterFunctionInfos": [
  {
   "name": "None",
   "description": "",
   "help": ""
  }
 ],
 "rasterTypeInfos": [
  {
   "name": "Raster Dataset",
   "description": "Supports all ArcGIS Raster Datasets",
   "help": ""
  }
 ],
 "mensurationCapabilities": "Basic",
 "hasHistograms": true,
 "hasColormap": false,
 "hasRasterAttributeTable": false,
 "minScale": 0,
 "maxScale": 0,
 "exportTilesAllowed": false,
 "hasMultidimensions": false,
 "supportsStatistics": false,
 "supportsAdvancedQueries": false,
 "editFieldsInfo": null,
 "ownershipBasedAccessControlForRasters": null,
 "allowComputeTiePoints": false,
 "useStandardizedQueries": true,
 "advancedQueryCapabilities": {
  "useStandardizedQueries": true,
  "supportsStatistics": false,
  "supportsOrderBy": false,
  "supportsDistinct": false,
  "supportsPagination": false
 },
 "spatialReference": {
  "wkt": "PROJCS[\"NAD_1983_2011_Connecticut_ft\",GEOGCS[\"GCS_NAD_1983_2011\",DATUM[\"D_NAD83_NATIONAL_SPATIAL_REFERENCE_SYSTEM_2011\",SPHEROID[\"GRS_1980\",6378137.0,298.257222101]],PRIMEM[\"Greenwich\",0.0],UNIT[\"Degree\",0.0174532925199433]],PROJECTION[\"Lambert_Conformal_Conic\"],PARAMETER[\"false_easting\",999999.999996],PARAMETER[\"false_northing\",499999.999998],PARAMETER[\"central_meridian\",-72.75],PARAMETER[\"standard_parallel_1\",41.2],PARAMETER[\"standard_parallel_2\",41.86666666666667],PARAMETER[\"latitude_of_origin\",40.83333333333334],UNIT[\"Foot_US\",0.3048006096012192]]"
 }
}
