<?xml version="1.0" encoding="UTF-8" standalone="no"?>
<metadata>
<Esri>
<CreaDate>20091006</CreaDate>
<CreaTime>08033100</CreaTime>
<SyncOnce>FALSE</SyncOnce>
<DataProperties>
</DataProperties>
<SyncDate>20100803</SyncDate>
<SyncTime>21571800</SyncTime>
<ModDate>20100803</ModDate>
<ModTime>21571800</ModTime>
<MetaID>{571A7A70-2495-4005-B1F3-C98E28CC18CE}</MetaID>
</Esri>
<idinfo>
<citation>
<citeinfo>
<origin>U.S. Geological Survey</origin>
<origin>State of Connecticut, Department of Environmental Protection</origin>
<pubdate>20091005</pubdate>
<title>USGS 2008 High Resolution Orthoimagery for the Bridgeport, Hartford, and New Haven, Connecticut Urban Areas</title>
<geoform Sync="TRUE">Fgdb raster digital data</geoform>
<pubinfo>
<pubplace>Sioux Falls, SD</pubplace>
<publish>U.S. Geological Survey</publish>
</pubinfo>
<onlink>http://seamless.usgs.gov</onlink>
<ftname Sync="TRUE">Middletown_Color_Ortho</ftname>
<serinfo>
<sername>Urban Area Orthoimagery</sername>
<issue>0.1</issue>
</serinfo>
<onlink>http://www.ct.gov/dep</onlink>
</citeinfo>
</citation>
<descript>
<abstract>This is a raster mosaic of 2008, natural color, leaf off, 1 ft ground sample distance imagery from the U.S. Geological Survey for the Bridgeport, Hartford and New Haven, Connecticut Urban Areas. Imagery only exists for these three geographic regions.
This task order consists of digital orthophoto production covering the CT Cities 133 Urban Area footprint. An orthoimage is remotely sensed image data in which displacement of features in the image caused by terrain relief and sensor orientation have been mathematically removed. Orthoimagery combines the image characteristics of a photograph with the geometric qualities of a map.</abstract>
<purpose>High Resolution Orthoimagery provides a critical tool for those involved in development decisions such as resource managers and city planners. The detailed focus of High Resolution Orthoimagery provides emergency responders critical information in determining the best evacuation routes, alternative routes and safe access to aid. High Resolution Orthoimagery assists law enforcement personnel in determining the best locations to place surveillance cameras in high-traffic urban areas and popular attractions. A digital orthoiamge is a geometrically accurate photographic record of landscape conditions at the time of the corresponding aerial photography. As such, the digital orthoimage is useful for a variety of applications, such as environmental monitoring, facility engineering/maintenance, city/county planning, property line review, etc. The digital orthoimage can be used alone or as a raster basemap for corresponding vector line mapping. The data assists Federal, State and local emergency responders in planning for homeland security efforts. This data also supports The National Map.</purpose>
<supplinf>The raster mosaic of 2008 USGS Urban Area Orthoimagery was prepared by the State of Connecticut, Department of Environmental Protection (CT DEP) using data provided by the USGS. The original input rasters are in GeoTIFF format and in NAD 1983 UTM Zone 18N Meters. These data are also available online from USGS National Map Seamless Server. The individual rasters were projected to NAD 1983 StatePlane Connecticut FIPS 0600 Feet and merged together in the resulting mosaic for the Bridgeport, Hartford, and New Haven Connecticut Urban Areas.
The data obtained through The National Map Seamless Server is considered to be the "best available" data from USGS. Historical data and other data may be obtained by contacting Customer Services, Earth Resources Observation and Science Center at 1-800-252-4547. Information in quotation marks, initial processing steps, accuracy reports, and source information is taken directly from the original metadata. Spatial-specific information not available</supplinf>
<langdata Sync="TRUE">en</langdata>
</descript>
<timeperd>
<timeinfo>
<sngdate>
<caldate>200804</caldate>
</sngdate>
</timeinfo>
<current>ground condition</current>
</timeperd>
<status>
<progress>Complete</progress>
<update>Irregular</update>
</status>
<spdom>
<bounding>
<westbc Sync="TRUE">-72.755316</westbc>
<eastbc Sync="TRUE">-72.549471</eastbc>
<northbc Sync="TRUE">41.605506</northbc>
<southbc Sync="TRUE">41.493243</southbc>
</bounding>
<lboundng>
<leftbc Sync="TRUE">998546.018548</leftbc>
<rightbc Sync="TRUE">1054842.255307</rightbc>
<bottombc Sync="TRUE">740510.182590</bottombc>
<topbc Sync="TRUE">781353.124223</topbc>
</lboundng>
</spdom>
<keywords>
<theme>
<themekt>ISO 19115 Topic Category</themekt>
<themekey>imageryBaseMapsEarthCover</themekey>
<themekey>010</themekey>
<themekey>geoscientificInformation</themekey>
<themekey>080</themekey>
<themekey>location</themekey>
<themekey>013</themekey>
</theme>
<theme>
<themekt>None</themekt>
<themekey>digital spatial data</themekey>
<themekey>0.3 meter orthoimage</themekey>
<themekey>rectified image</themekey>
<themekey>orthophoto</themekey>
<themekey>natural color orthophoto</themekey>
<themekey>orthoimage</themekey>
<themekey>image map</themekey>
</theme>
<place>
<placekt>U.S. Department of Commerce, 1995, Countries, Dependencies, Areas of Special Sovereignty, and Their Principal Administrative Divisions (Federal Information Processing Standard (FIPS) 10-4): Washington, D.C., National Institute of Standards and Technology.</placekt>
<placekey>US</placekey>
<placekey>United States of America</placekey>
</place>
<place>
<placekt>U.S. Department of Commerce, 1987, Codes for the Identification of the States, the District of Columbia and the Outlying Areas of The United States, and Associated Areas (Federal Information Processing Standard 5-2): Washington, DC, National Institute of Standards and Technology.</placekt>
<placekey>Connecticut</placekey>
<placekey>CT</placekey>
</place>
<place>
<placekey>United States</placekey>
<placekey>U.S.</placekey>
<placekt>U.S. Department of Commerce, 1995, Countries, dependencies, areas of special sovereignty, and their principal administrative divisions, Federal Information Processing Standard 10-4,): Washington, D.C., National Institute of Standards and Technology</placekt>
<placekey>US</placekey>
</place>
<place>
<placekey>Fairfield County</placekey>
<placekey>Hartford County</placekey>
<placekey>Middlesex County</placekey>
<placekey>New Haven County</placekey>
<placekt>Counties and County Equivalents of the States of the United States and the District of Columbia (FIPS Pub 6-3)</placekt>
<placekey>New London County</placekey>
</place>
<place>
<placekey>City of Bridgeport</placekey>
<placekey>City of Hartford</placekey>
<placekey>City of New Haven</placekey>
<placekt>Geographic Names Information System</placekt>
<placekey>State of Connecticut</placekey>
</place>
<theme>
<themekt>American Society of Photogrammetry and RemoteSensing</themekt>
<themekey>National Standards for Spatial Digital Accuracy (NSSDA)</themekey>
</theme>
</keywords>
<accconst>Any downloading and use of these data signifies a user's agreement to comprehension and compliance of the USGS Standard Disclaimer. Insure all portions of metadata are read and clearly understood before using these data in order to protect both user and USGS interests.</accconst>
<useconst>There is no guarantee of warranty concerning the accuracy of the data. Users should be aware that temporal changes may have occurred since this data set was collected and that some parts of this data may no longer represent actual surface conditions. Users should not use this data for critical applications without a full awareness of its limitations. Acknowledgement of the originating agencies would be appreciated in products derived from these data. Any user who modifies the data is obligated to describe the types of modifications they perform. User specifically agrees not to misrepresent the data, nor to imply that changes made were approved or endorsed by the U.S. Geological Survey. Please refer to http://www.usgs.gov/privacy.html for the USGS disclaimer.</useconst>
<ptcontac>
<cntinfo>
<cntorgp>
<cntorg>U.S. Geological Survey</cntorg>
<cntper>Customer Services Representative</cntper>
</cntorgp>
<cntaddr>
<addrtype>mailing and physical address</addrtype>
<address>USGS Earth Resources Observation and Science Center</address>
<city>Sioux Falls</city>
<state>SD</state>
<postal>57198-0001</postal>
<country>USA</country>
<address>47914 252nd Street</address>
</cntaddr>
<cntvoice>605/594-6151</cntvoice>
<cntfax>605/594-6589</cntfax>
<cntemail>custserv@usgs.gov</cntemail>
<cntvoice>1-800-252-4547</cntvoice>
<cnttdd>605/594-6933</cnttdd>
<hours>0800 - 1600 CT, M - F (-6h CST/-5h CDT GMT)</hours>
</cntinfo>
</ptcontac>
<browse>
<browsen>http://www.cteco.uconn.edu/metadata/dep/browsegraphic/orthophoto2008usgsurbanareafullview.gif</browsen>
<browsed>Full view of USGS High Resolution Orthoimagery for the Bridgeport, Hartford, and New Haven, Connecticut Urban Areas</browsed>
<browset>GIF</browset>
</browse>
<browse>
<browsen>http://www.cteco.uconn.edu/metadata/dep/browsegraphic/orthophoto2008usgsurbanareadetailview.gif</browsen>
<browsed>Detail view of USGS High Resolution Orthoimagery for the Bridgeport, Hartford, and New Haven, Connecticut Urban Areas within vicinity of the Connecticut Department of Environmental Protection building at 79 Elm Street in Hartford, Connecticut.</browsed>
<browset>GIF</browset>
</browse>
<secinfo>
<secsys>None</secsys>
<secclass>Unclassified</secclass>
<sechandl>N/A</sechandl>
</secinfo>
<native Sync="FALSE">ESRI ArcCatalog 9.3.1.3000</native>
<natvform Sync="TRUE">File Geodatabase Raster Dataset</natvform>
<datacred>U.S. Geological Survey and Aero-Metric, Inc.
</datacred>
</idinfo>
<dataqual>
<logic>GeoTIFFs conform to the specifications set forth by the USGS for production of 133 UA orthophotos.
</logic>
<complete>Orthoimages are visually inspected for completeness to ensure that no gaps or image misplacements exist within and between adjacent images. These images are derived by mosaicking multiple images to ensure complete coverage. Source imagery is cloud free.</complete>
<posacc>
<horizpa>
<horizpar>The relative accuracy is assembled by comparing rectified images generated from adjacent strips of imagery. The absolute accuracy is assessed by measuring the ground control points in the rectified image against the actual surveyed co-ordinate position. The testing is for overall accuracy. This data has been produced to be fully compliant with the National Map Accuracy Standards (NMAS) for mapping at this scale.</horizpar>
</horizpa>
<vertacc>
<vertaccr>There is no vertical accuracy component to orthophotography.</vertaccr>
</vertacc>
</posacc>
<lineage>
<srcinfo>
<srccite>
<citeinfo>
<origin>Aero-Metric, Inc.</origin>
<pubdate>2008</pubdate>
<title>028014</title>
<geoform>remote-sensing image</geoform>
</citeinfo>
</srccite>
<srcscale>21,600</srcscale>
<srctime>
<timeinfo>
<sngdate>
<caldate>20080408</caldate>
</sngdate>
</timeinfo>
<srccurr>ground condition</srccurr>
</srctime>
<srccitea>Image</srccitea>
<typesrc>stable-base material</typesrc>
<srccontr>Source imagery for orthophoto production.</srccontr>
</srcinfo>
<srcinfo>
<srccite>
<citeinfo>
<origin>U.S. Geological Survey</origin>
<pubdate>2008</pubdate>
<title>USGS DEM</title>
</citeinfo>
</srccite>
<typesrc>CD-ROM</typesrc>
<srctime>
<timeinfo>
<sngdate>
<caldate>unknown</caldate>
</sngdate>
</timeinfo>
<srccurr>ground condition</srccurr>
</srctime>
<srccitea>DEM</srccitea>
<srccontr>Used to provide ground elevations for orthorectification process.</srccontr>
</srcinfo>
<srcinfo>
<srccite>
<citeinfo>
<origin>Aero-Metric, Inc.</origin>
<pubdate>2008</pubdate>
<title>CT Cities Aerotriangulation</title>
</citeinfo>
</srccite>
<typesrc>CD-ROM</typesrc>
<srctime>
<timeinfo>
<sngdate>
<caldate>200804</caldate>
</sngdate>
</timeinfo>
<srccurr>ground condition</srccurr>
</srctime>
<srccitea>AT</srccitea>
<srccontr>Used to provide photo exterior orientations for orthorectification process.
</srccontr>
</srcinfo>
<procstep>
<srcused>withheld</srcused>
<srcused>withheld</srcused>
<procdesc>The raw scanned photos were aerotriangulated to support digital ortho image production for the CT Cities project area. Airborne GPS and ground check point data was provided by AERO-METRIC, Inc. The project was referenced to the North American Datum of 1983 (NAD83), Universal Transverse Mercator, Zone 18 horizontally and to the North American Vertical Datum of 1988 (NAVD88) vertically. Units were in meters.The scanned images (14 micron), ABGPS data, ground check point data, and camera calibration data were used as inputs to the Zeiss/Intergraph ImageStation Automatic Triangulation (ISAT) softcopy program. ISAT correlated image points and aerotriangulated the block of images to create exposure station exterior orientations. All ground checkpoints were manually measured on the imagery. These ground checkpoints were included in the aerotriangulation adjustments as unconstrained points for absolute ground location verification.The scale of the aerial photos was 1:21,600. The photography was exposed on 4/2/08, 4/3/08 and 4/8/08.Rectification was done using the aerotriangulation data, scans, NED data. These rectified images were used to draw seamlines. The images were then dodged. The dodged rectified images were mosaicked, balanced, and cut into final image sheets. The final sheets were viewed and artifacts were removed as well as other edits performed.
</procdesc>
<srcused>withheld</srcused>
<procdate>200812</procdate>
<srcprod>withheld</srcprod>
</procstep>
<procstep>
<proccont>
<cntinfo>
<cntaddr>
<address>USGS Earth Resources Observation and Science Center</address>
<addrtype>mailing and physical address</addrtype>
<address>47914 252nd Street</address>
<city>Sioux Falls</city>
<state>SD</state>
<postal>57198-0001</postal>
<country>USA</country>
</cntaddr>
<cntvoice>605-594-6151</cntvoice>
<cntperp>
<cntper>Customer Service Representative</cntper>
<cntorg>U.S. Geological Survey</cntorg>
</cntperp>
<cntvoice>1-800-252-4547</cntvoice>
<cnttdd>605-594-6933</cnttdd>
<cntfax>605-594-6589</cntfax>
<cntemail>custserv@usgs.gov</cntemail>
<hours>0800 - 1600 CT, M - F (-6h CST/-5h CDT GMT)</hours>
<cntinst>The USGS point of contact is for questions relating only to the data display and download from this web site. For questions regarding data content and quality, refer to original processor.</cntinst>
</cntinfo>
</proccont>
<procdesc>The metadata were imported and updated for display through The National Map Seamless Server at http://seamless.usgs.gov Project level metadata are available in several formats: HTML, TEXT, XML, FAQ and SGML.
</procdesc>
<procsv>200902</procsv>
<srcused>withheld</srcused>
<srcprod>withheld</srcprod>
</procstep>
<procstep>
<proccont>
<cntinfo>
<cntorgp>
<cntorg>State of Connecticut, Department of Environmental Protection</cntorg>
<cntper>Howie Sternberg</cntper>
</cntorgp>
<cntaddr>
<addrtype>mailing and physical address</addrtype>
<address>79 Elm Street</address>
<city>Hartford</city>
<state>Connecticut</state>
<postal>06106</postal>
<country>USA</country>
</cntaddr>
<cntvoice>860-424-3540</cntvoice>
<cntfax>860-424-4058</cntfax>
<cntemail>dep.gisdata@po.state.ct.us</cntemail>
<hours>Monday to Friday, 08:30 to 16:30 Eastern Standard Time</hours>
</cntinfo>
</proccont>
<procdesc>Using ESRI ArcGIS 9.3.1 software, an empty raster dataset was created and subsequently populated with input rasters to create a statewide raster mosaic. The State of Connecticut, Department of Environmental Protection obtained these TIFF images from the U.S. Geological Survey.
STEP 1 - Create Raster Dataset - The Coordinate System for the raster dataset is NAD_1983_StatePlane_Connecticut_FIPS_0600_Feet. The image compression type is JPEG with a compression quality of 90. The Pyramid Reference Point X and Y coordinate are 687800 and 1015180, respectively. Bands: 3. Pyramids: 8 Bilinear. The Pixel Type is 8_BIT_UNSIGNED, which supports index values from 0 to 255. Raster statistics were not built. Below is a record of the ESRI Geoprocessing CreateRasterDataset command and arguments that created the empty raster dataset. CreateRasterDataset Connecticut_Ortho_2008_Urban_Area.gdb 
Ortho_2008_Color_USGS_Urban_Area # 8_BIT_UNSIGNED PROJCS['NAD_1983_StatePlane_Connecticut_FIPS_0600_Feet',
GEOGCS['GCS_North_American_1983',\
DATUM['D_North_American_1983',
SPHEROID['GRS_1980',6378137.0,298.257222101]],
PRIMEM['Greenwich',0.0],
UNIT['Degree',0.0174532925199433]],
PROJECTION['Lambert_Conformal_Conic'],
PARAMETER['False_Easting',999999.999996],
PARAMETER['False_Northing',499999.999998],
PARAMETER['Central_Meridian',-72.75],
PARAMETER['Standard_Parallel_1',41.2],
PARAMETER['Standard_Parallel_2',41.86666666666667],
PARAMETER['Latitude_Of_Origin',40.83333333333334],
UNIT['Foot_US',0.3048006096012192]]
3 # "PYRAMIDS 8 BILINEAR" "128 128" "JPEG 90" "687800 1015180" Ortho_2008_Color_USGS_Urban_Area
STEP 
2 - Mosaic input rasters for the Bridgeport, Hartford, and New Haven Urban Area. The Ignore Background Value was set to one (1). The NoData value was left blank. The Mosaicking Tolerance value was set to zero (0). Consequently, pixel values in the raster mosaic resulted from a resampling of pixels values from individual input rasters due to the difference in alignment of input and mosaic (target) pixels. Note, in the resulting mosaic, the input rasters in NAD 1983 UTM Zone 18N Meters were projected to NAD 1983 StatePlane Connecticut FIPS 0600 Feet. Below is an example usage of the ESRI Geoprocessing Mosaic command and arguments used to mosaic 4 input rasters in TIFF format.
</procdesc>
<procsv>ArcGIS 9.3.1</procsv>
<procdate>20091005</procdate>
<srcprod>withheld</srcprod>
<srcused>withheld</srcused>
</procstep>
<srcinfo>
<typesrc>disk</typesrc>
<srccitea>TIFF</srccitea>
<srccite>
<citeinfo>
<title>TIFF Orthophotos of USGS 2008 High Resolution Orthoimagery for the Bridgeport, Hartford, and New Haven, Connecticut Urban Areas</title>
<origin>U.S. Geological Survey</origin>
<pubdate>2008</pubdate>
<geoform>raster digital data</geoform>
<onlink>http://seamless.usgs.gov</onlink>
<serinfo>
<issue>0.1</issue>
<sername>Urban Area Orthoimagery</sername>
</serinfo>
<pubinfo>
<publish>U.S. Geological Survey</publish>
<pubplace>Sioux Falls, SD</pubplace>
</pubinfo>
</citeinfo>
</srccite>
<srctime>
<timeinfo>
<sngdate>
<caldate>200804</caldate>
</sngdate>
</timeinfo>
<srccurr>ground condition</srccurr>
</srctime>
</srcinfo>
<srcinfo>
<typesrc>disk</typesrc>
<srccitea>mosaic</srccitea>
<srccite>
<citeinfo>
<title>USGS 2008 High Resolution Orthoimagery for the Bridgeport, Hartford, and New Haven, Connecticut Urban Areas</title>
<origin>U.S. Geological Survey</origin>
<origin>State of Connecticut, Department of Environmental Protection</origin>
<pubdate>2009</pubdate>
<geoform>raster digital data</geoform>
<serinfo>
<sername>Urban Area Orthoimagery</sername>
<issue>0.1</issue>
</serinfo>
<pubinfo>
<pubplace>Sioux Falls, SD</pubplace>
<publish>U.S. Geological Survey</publish>
</pubinfo>
<onlink>http://www.ct.gov/dep</onlink>
</citeinfo>
</srccite>
<srctime>
<timeinfo>
<sngdate>
<caldate>200804</caldate>
</sngdate>
</timeinfo>
<srccurr>ground condition</srccurr>
</srctime>
<srccontr>Statewide mosaic of all Orthophoto TIFFS</srccontr>
</srcinfo>
</lineage>
<attracc>
<attraccr>Radiometry is verified by visual inspection of the digital orthophoto. Slight systematic radiometric differences may exist between adjacent orthoimage files; these are due primarily to differences in source image capture dates and sun angles along flight lines. These differences can be observed in an image's general lightness or darkness when it is compared to adjacent orthoimage file coverages. Tonal balancing may be performed over a group of images during the mosaicking process which may serve to lighten or darken adjacent images for better color tone matching.</attraccr>
</attracc>
</dataqual>
<spdoinfo>
<direct Sync="TRUE">Raster</direct>
<rastinfo>
<rasttype Sync="TRUE">Pixel</rasttype>
<rowcount Sync="TRUE">40451</rowcount>
<colcount Sync="TRUE">55756</colcount>
<vrtcount Sync="TRUE">1</vrtcount>
<rastxsz Sync="TRUE">1.009689</rastxsz>
<rastysz Sync="TRUE">1.009689</rastysz>
<rastbpp Sync="TRUE">8</rastbpp>
<rastorig Sync="TRUE">Upper Left</rastorig>
<rastcmap Sync="TRUE">FALSE</rastcmap>
<rastcomp Sync="TRUE">LZ77</rastcomp>
<rastband Sync="TRUE">3</rastband>
<rastdtyp Sync="TRUE">pixel codes</rastdtyp>
<rastifor Sync="TRUE">FGDBR</rastifor>
<rastplyr Sync="TRUE">TRUE</rastplyr>
</rastinfo>
</spdoinfo>
<spref>
<horizsys>
<planar>
<planci>
<plance Sync="TRUE">row and column</plance>
<coordrep>
<absres Sync="TRUE">1.009689</absres>
<ordres Sync="TRUE">1.009689</ordres>
</coordrep>
<plandu Sync="TRUE">survey feet</plandu>
</planci>
<mapproj>
<mapprojn Sync="TRUE">Lambert Conformal Conic</mapprojn>
<lambertc>
<stdparll Sync="TRUE">41.200000</stdparll>
<stdparll Sync="TRUE">41.866667</stdparll>
<longcm Sync="TRUE">-72.750000</longcm>
<latprjo Sync="TRUE">40.833333</latprjo>
<feast Sync="TRUE">999999.999996</feast>
<fnorth Sync="TRUE">499999.999998</fnorth>
</lambertc>
</mapproj>
</planar>
<geodetic>
<horizdn Sync="TRUE">North American Datum of 1983</horizdn>
<ellips Sync="TRUE">Geodetic Reference System 80</ellips>
<semiaxis Sync="TRUE">6378137.000000</semiaxis>
<denflat Sync="TRUE">298.257222</denflat>
</geodetic>
<cordsysn>
<geogcsn Sync="TRUE">GCS_North_American_1983</geogcsn>
<projcsn Sync="TRUE">NAD_1983_StatePlane_Connecticut_FIPS_0600_Feet</projcsn>
</cordsysn>
</horizsys>
<vertdef>
<altsys>
<altres Sync="TRUE">1.000000</altres>
<altenc Sync="TRUE">Explicit elevation coordinate included with horizontal coordinates</altenc>
</altsys>
</vertdef>
</spref>
<eainfo>
<overview>
<eaover>Natural color orthoimagery is organized in three color bands or channels which represent the red, green, and blue portions of the spectrum. Each image pixel is assigned a triplet of numeric values, one for each color band. Numeric values range from 0 to 255. Areas where data is incomplete due to lack of full image coverage are represented with the numeric value of 0.</eaover>
<eadetcit>U.S. Department of the Interior, U.S. Geological Survey, 1999, Standards for Digital Orthoimagery: Reston, VA</eadetcit>
</overview>
<detailed>
<enttyp>
</enttyp>
</detailed>
</eainfo>
<distinfo>
<distrib>
<cntinfo>
<cntaddr>
<addrtype>mailing and physical address</addrtype>
<address>Earth Resources Observation and Science Center</address>
<city>Sioux Falls</city>
<state>SD</state>
<postal>57198-0001</postal>
<country>USA</country>
<address>47914 252nd Street</address>
</cntaddr>
<cntvoice>605/594-6151</cntvoice>
<cntfax>605/594-6589</cntfax>
<cntemail>custserv@usgs.gov</cntemail>
<cntorgp>
<cntorg>U.S. Geological Survey</cntorg>
<cntper>Customer Services Representative</cntper>
</cntorgp>
<cntvoice>1-800-252-4547</cntvoice>
<cnttdd>605/594-6933</cnttdd>
<hours>0800 - 1600 CT, M - F (-6h CST/-5h CDT GMT)</hours>
<cntinst>The USGS point of contact is for questions relating only to the data display and download from this web site. For questions regarding data content and quality, refer to the original processor.</cntinst>
</cntinfo>
</distrib>
<resdesc>USGS 2008 High Resolution Orthoimagery for the Bridgeport, Hartford, and New Haven, Connecticut Urban Areas</resdesc>
